BEGIN:VCALENDAR
VERSION:2.0
PRODID:-//ddaysoftware.com//NONSGML DDay.iCal 1.0//EN
BEGIN:VEVENT
DTEND:20260319T170000
UID:https://www.kwrwater.nl/actueel/agenda/aquanl-2026/
DTSTAMP:20260421T095448Z
LOCATION:Evenementenhal Gorinchem\, Franklinweg\, Gorinchem\, Nederland
DESCRIPTION:Meld je hier gratis aan voor AquaNL 2026. &nbsp\; Op 17\, 18 en 19 maart 2026 is KWR aanwezig op Aqua Nederland (AquaNL)\, de nationale vakbeurs op het gebied van afvalwater\, drinkwater\, proceswater en stedelijk water &amp\; rioolbeheer. Dit jaar zijn we weer vertegenwoordigd met...
URL;VALUE=URI:https://www.kwrwater.nl/actueel/agenda/aquanl-2026/
SUMMARY:AquaNL 2026
DTSTART:20260317T100000
END:VEVENT
END:VCALENDAR