BEGIN:VCALENDAR
VERSION:2.0
PRODID:-//ddaysoftware.com//NONSGML DDay.iCal 1.0//EN
BEGIN:VEVENT
DTEND:20231109T170000
UID:https://www.kwrwater.nl/actueel/agenda/amsterdam-international-water-week-2023/
DTSTAMP:20260421T095732Z
LOCATION:RAI Amsterdam\, Europaplein\, Amsterdam\, Nederland
DESCRIPTION:Tijdens de Amsterdam International Water Week (AIWW2023) van 6-9 november richten professionals in de watersector zich op wereldwijde watervraagstukken om duurzame oplossingen te vinden. Het doel is om te inspireren\, te communiceren en geïntegreerde oplossingen te vinden. Het tweejaarlijkse event draait nu om het thema: Water in Transition – Accelerate the...
URL;VALUE=URI:https://www.kwrwater.nl/actueel/agenda/amsterdam-international-water-week-2023/
SUMMARY:Amsterdam International Water Week 2023
DTSTART:20231106T083000
END:VEVENT
END:VCALENDAR